BEGIN:VCALENDAR
VERSION:2.0
PRODID:-//Harpeth Conservancy - ECPv6.15.20//NONSGML v1.0//EN
CALSCALE:GREGORIAN
METHOD:PUBLISH
X-ORIGINAL-URL:https://harpethconservancy.org
X-WR-CALDESC:Events for Harpeth Conservancy
REFRESH-INTERVAL;VALUE=DURATION:PT1H
X-Robots-Tag:noindex
X-PUBLISHED-TTL:PT1H
BEGIN:VTIMEZONE
TZID:America/Chicago
BEGIN:DAYLIGHT
TZOFFSETFROM:-0600
TZOFFSETTO:-0500
TZNAME:CDT
DTSTART:20240310T080000
END:DAYLIGHT
BEGIN:STANDARD
TZOFFSETFROM:-0500
TZOFFSETTO:-0600
TZNAME:CST
DTSTART:20241103T070000
END:STANDARD
BEGIN:DAYLIGHT
TZOFFSETFROM:-0600
TZOFFSETTO:-0500
TZNAME:CDT
DTSTART:20250309T080000
END:DAYLIGHT
BEGIN:STANDARD
TZOFFSETFROM:-0500
TZOFFSETTO:-0600
TZNAME:CST
DTSTART:20251102T070000
END:STANDARD
BEGIN:DAYLIGHT
TZOFFSETFROM:-0600
TZOFFSETTO:-0500
TZNAME:CDT
DTSTART:20260308T080000
END:DAYLIGHT
BEGIN:STANDARD
TZOFFSETFROM:-0500
TZOFFSETTO:-0600
TZNAME:CST
DTSTART:20261101T070000
END:STANDARD
END:VTIMEZONE
BEGIN:VEVENT
DTSTART;TZID=America/Chicago:20250128T180000
DTEND;TZID=America/Chicago:20250128T193000
DTSTAMP:20260420T071112
CREATED:20241217T204640Z
LAST-MODIFIED:20250122T160921Z
UID:96267-1738087200-1738092600@harpethconservancy.org
SUMMARY:Forests for Clean Water Webinar
DESCRIPTION:In our December 2023 webinar\, we heard from Maddy Johnson about the University of Tennessee’s Community Riparian Reforestation Program. On January 28\, 2025\, we’ll hear an update from Maddy about progress made over the past year and exciting projects on the horizon. Come learn with us about how planting native trees positively impacts water quality in Tennessee!\n \nHere’s what we know: \n\n\nThere are quite a few priority watersheds in Middle Tennessee that are in need of expanded tree-planting efforts.\n\n\nThese watersheds are rapidly losing tree cover and biodiversity\, which can have disastrous effects on local water quality.\n\n\nStrategically planting trees in these watersheds (not just in riparian areas!) can go a long way in offsetting these impacts and providing value to the community. \n\n\nIn this webinar\, we’ll learn about how the University of Tennessee’s Community Riparian Restoration Program uses scientific research to identify areas that should be prioritized for restoration. We’ll discuss ways that collaboration can deepen our collective impact as we select sites for invasive species removal and native tree planting in priority watersheds.\n \nThis webinar will be presented by Maddy Johnson\, PhD student in Plant\, Environmental\, & Soil Sciences and Graduate Research Assistant with the Community Riparian Restoration Program for Tennessee\, a multidisciplinary initiative led by the UT Institute of Agriculture and the Tennessee Department of Agriculture\, Division of Forestry.\n \nIn partnership with the Community Riparian Restoration Program for Tennessee. Open to the public. Free to attend.\n \nREGISTER HERE\n 
URL:https://harpethconservancy.org/event/forests-for-clean-water-webinar/
LOCATION:Webinar
CATEGORIES:Webinar
ATTACH;FMTTYPE=image/jpeg:https://harpethconservancy.org/wp-content/uploads/2024/12/forests2025.jpg
END:VEVENT
END:VCALENDAR